Workbook
Name AdjBs_Dt: '[1]Adj Bs'!$C$1:$C$601
Name AdjBs_Kt: '[1]Adj Bs'!$D$1:$D$634
Name AdjBs_Value: '[1]Adj Bs'!$E$1:$E$601
Name TABLE: ОПР!$E$11:$E$11

Sheet БАЛАНС
A2: КОНСОЛИДИРАН СЧЕТОВОДЕН БАЛАНС
A3: на "Индустриален капитал-холдинг" АД
A4: 01.01.2012 - 30.06.2012 г.
A6: АКТИВ | D6: ПАСИВ
A7: Раздели, групи, статии | B7: Сума ( хил.лв) | D7: Раздели, групи, статии | E7: Сума (хил. лв)
B8: текуща год. | C8: предходна год. | E8: текуща год. | F8: предходна год.
A9: а | B9: 1 | C9: 2 | D9: а | E9: 1 | F9: 2
A10: А. ДЪЛГОТРАЙНИ (дългосрочни) АКТИВИ | D10: А. СОБСТВЕН КАПИТАЛ
A11: I. Дълготрайни материални активи | D11: I. Основен капитал
A12: 1. Земи (терени ) | B12: 3555 | C12: 3555 | D12: 1. Записан капитал | E12: 15552 | F12: 15552
A13: 2. Сгради и конструкции | B13: 20825 | C13: 21191 | D13: 2. Невнесен капитал
A14: 3. Машини и оборудване | B14: 23103 | C14: 24318 | D14: 3. Изкупени собствени акции
A15: 4. Съоръжения | B15: 3314 | C15: 3250 | D15: Общо за група І | E15: =SUM(E12:E14) -> 15552 | F15: =SUM(F12:F14) -> 15552
A16: 5. Транспортни средства | B16: 881 | C16: 756 | D16: II. Резерви
A17: 6. Основни стада | D17: 1. Премии от емисии
A18: 7. Други дълготрайни материални активи | B18: =227+195 -> 422 | C18: =123+255 -> 378 | D18: 2. Резерв от последващи оценки на активите и пасивите | E18: 6577 | F18: 6577
A19: 8. Разходи за придобиване и ликвидация на дълготрайни материални активи | B19: 1146 | C19: 1353 | D19: 3. Целеви резерви в т.ч. | E19: =SUM(E20:E22) -> 5470 | F19: =SUM(F20:F22) -> 4993
A20: Общо за група I: | B20: =SUM(B12:B19) -> 53246 | C20: =SUM(C12:C19) -> 54801 | D20: общи резерви | E20: 2720 | F20: 2165
A21: II.Дълготрайни нематериални активи | D21: специализирани резерви
A22: 1. Права върху собственост | B22: 8 | C22: 11 | D22: други резерви | E22: 2750 | F22: 2828
A23: 2. Програмни продукти | B23: 105 | C23: 56 | D23: Общо за група II | E23: =SUM(E17:E19) -> 12047 | F23: =SUM(F17:F19) -> 11570
A24: 3. Продукти от развойна дейност | B24: 1 | C24: 1 | D24: III. Финансов резултат
A25: 4. Други дълготрайни нематериални активи | B25: 78 | C25: 32 | D25: 1. Натрупана печалба (загуба) | E25: =SUM(E26:E27) -> 6967 | F25: =SUM(F26:F27) -> 4511
A26: Общо за група II: | B26: =SUM(B22:B25) -> 192 | C26: =SUM(C22:C25) -> 100 | D26: в т.ч. неразпределена печалба | E26: 7076 | F26: 4583
A27: III.Дългосрочни финансови активи | D27: в т.ч. непокрита загуба | E27: -109 | F27: -72
A28: 1. Дялове и участия в т.ч. | B28: =SUM(B29:B32) -> 1563 | C28: =SUM(C29:C32) -> 1563 | D28: 2. Текуща печалба (загуба) | E28: 2397 | F28: 3675
A29: в дъщерни предприятия | D29: Общо за група III | E29: =E25+E28 -> 9364 | F29: =F25+F28 -> 8186
A30: в смесени предприятия | D30: IV. Собствен капитал, непринадлежащ на групата
A31: в асоциирани предприятия | D31: 1. Основен капитал | E31: 27072 | F31: 27075
A32: в други предприятия | B32: 1563 | C32: 1563 | D32: 2. Резерви | E32: 14404 | F32: 13404
A33: 2. Инвестиционни имоти | B33: 65 | C33: 67 | D33: Премии от емисии
A34: 3.Други дългосрочни ценни книжа | D34: Резерв от последващи оценки на активите и пасивите | E34: 9046 | F34: 9046
A35: 4. Дългосрочни вземания в т.ч. | B35: =SUM(B36:B38) -> 1863 | C35: =SUM(C36:C38) -> 1734 | D35: Целеви резерви в т.ч. | E35: =SUM(E36:E38) -> 5358 | F35: =SUM(F36:F38) -> 4358
A36: от свързани предприятия | D36: общи резерви | E36: 2791 | F36: 1687
A37: търговски заеми | D37: специализирани резерви
A38: други дългосрочни вземания | B38: =807+927+129 -> 1863 | C38: =807+927 -> 1734 | D38: други резерви | E38: 2567 | F38: 2671
A39: Общо за група III: | B39: =SUM(B29:B38)-B36-B38 -> 3491 | C39: =SUM(C29:C38)-C36-C38 -> 3364 | D39: 3. Натрупана печалба (загуба) | E39: =E40+E41 -> 18045 | F39: =F40+F41 -> 10723
A40: IV. Търговска репутация | D40: в т.ч. неразпределена печалба | E40: 18054 | F40: 10848
A41: 1. Положителна репутация | D41: в т.ч. непокрита загуба | E41: -9 | F41: -125
A42: 2. Отрицателна репутация | B42: -708 | C42: -278 | D42: 4. Текуща печалба (загуба) | E42: 7959 | F42: 13307
A43: Общо за група IV: | B43: =SUM(B41:B42) -> -708 | C43: =SUM(C41:C42) -> -278 | D43: Общо за група IV | E43: =E31+E32+E39+E42 -> 67480 | F43: =F31+F32+F39+F42 -> 64509
A44: V. Разходи да бъдещи периоди | B44: 0 | C44: 0 | D44: ОБЩО ЗА РАЗДЕЛ "А" | E44: =E15+E23+E29+E43 -> 104443 | F44: =F15+F23+F29+F43 -> 99817
A45: VI. Активи по отсрочени данъци | B45: 66 | C45: 74
A46: ОБЩО ЗА РАЗДЕЛ "А" | B46: =B20+B26+B39+B43+B44+B45 -> 56287 | C46: =C20+C26+C39+C43+C44+C45 -> 58061 | D46: Б. ДЪЛГОСРОЧНИ ПАСИВИ
A47: Б. КРАТКОТРАЙНИ (краткосрочни) АКТИВИ | D47: I. Дългосрочни задължения
A48: I. Материални запаси | D48: 1. Задължения към свързани предприятия
A49: 1. Материали | B49: 10351 | C49: 11210 | D49: 2.Задължения към финансови предприятия | E49: 4472 | F49: 3184
A50: 2. Продукция | B50: 3573 | C50: 4810 | D50: в т.ч към банки
A51: 3. Стоки | B51: 128 | C51: 119 | D51: 3. Задължения по търговски заеми | E51: 205 | F51: 47
A52: 4. Млади животни и животни за угояване | D52: 4. Задължения по облигационни заеми
A53: 5. Дребни продуктивни животни | D53: 5. Отсрочени данъци | E53: 1323 | F53: 1323
A54: 6. Незавършено производство | B54: 6213 | C54: 5422 | D54: 6. Други дългосрочни задължения | E54: =394+55 -> 449 | F54: 357
A55: 7. Други материални запаси | B55: 60 | D55: Общо за група I: | E55: =SUM(E48:E54) -> 6449 | F55: =SUM(F48:F54) -> 4911
A56: Общо за група I: | B56: =SUM(B49:B55) -> 20325 | C56: =SUM(C49:C55) -> 21561 | D56: II. Приходи за бъдещи периоди и финансирания
A57: II.Краткосрочни вземания | D57: ОБЩО ЗА РАЗДЕЛ "Б" | E57: =E55+E56 -> 6449 | F57: =F55+F56 -> 4911
A58: 1. Вземания от свързани предприятия | D58: В. КРАТКОСРОЧНИ ПАСИВИ
A59: 2. Вземания от клиенти и доставчици | B59: =2121+30351+1045 -> 33517 | C59: =24237+1379+728 -> 26344 | D59: I. Краткосрочни задължения
A60: 3. Вземания по предоставени търговски заеми | C60: 34 | D60: 1. Задължения към свързани предприятия
A61: 4. Съдебни и присъдени вземания | B61: 440 | C61: 204 | D61: 2. Задължения към финансови предприятия | E61: 7675 | F61: 9430
A62: 5. Данъци за възстановяване | B62: 2955 | C62: 2464 | D62: в т.ч към банки
A63: 6. Други краткосрочни вземания | B63: 263 | C63: 246 | D63: 3. Задължения към доставчици и клиенти | E63: =3152+8112+283 -> 11547 | F63: =8996+59+196+1 -> 9252
A64: Общо за група II: | B64: =SUM(B58:B63) -> 37175 | C64: =SUM(C58:C63) -> 29292 | D64: 4. Задължения по търговски заеми | E64: 201 | F64: 552
A65: III. Краткосрочни финансови активи | D65: 5. Задължения към персонала | E65: 1908 | F65: 2351
A66: 1. Финансови активи в свързани предприятия | D66: 6. Задължения към осигурителни предприятия | E66: 516 | F66: 682
A67: 2. Изкупени собствени дългови ценни книжа | D67: 7. Данъчни задължения | E67: 200 | F67: 882
A68: 3. Краткосрочни ценни книжа | D68: 8. Други краткосрочни задължения | E68: 345 | F68: 275
A69: 4. Благородни метали и скъпоценни камъни | D69: 9. Провизии | E69: 8 | F69: 8
A70: 5. Други краткосрочни финансови активи | B70: 252 | C70: 321 | D70: Общо за група I: | E70: =SUM(E60:E69) -> 22400 | F70: =SUM(F60:F69) -> 23432
A71: Общо за група III: | B71: =SUM(B66:B70) -> 252 | C71: =SUM(C66:C70) -> 321 | D71: II. Приходи за бъдещи периоди и финансирания
A72: IV. Парични средства | D72: ОБЩО ЗА РАЗДЕЛ "В" | E72: =E70+E71 -> 22400 | F72: =F70+F71 -> 23432
A73: 1. Парични средства в брой | B73: 28 | C73: 20
A74: 2. Парични средства в безсрочни депозити | B74: 7151 | C74: 7751
A75: 3. Други парични средства | B75: 11925 | C75: 11046
A76: 4. Парични еквиваленти | B76: 6
A77: Общо за група IV: | B77: =SUM(B73:B76) -> 19110 | C77: =SUM(C73:C76) -> 18817
A78: V. Разходи за бъдещи периоди | B78: 143 | C78: 108
A79: ОБЩО ЗА РАЗДЕЛ "Б" | B79: =B56+B64+B71+B77+B78 -> 77005 | C79: =C56+C64+C71+C77+C78 -> 70099
A80: СУМА НА АКТИВА (А+Б) | B80: =B46+B79 -> 133292 | C80: =C46+C79 -> 128160 | D80: СУМА НА ПАСИВА (А + Б + В) | E80: =E44+E57+E72 -> 133292 | F80: =F44+F57+F72 -> 128160
A81: В. УСЛОВНИ АКТИВИ | D81: Г. УСЛОВНИ ПАСИВИ
A83: Дата: 20.08.2012 г. Съставител: Н.Николов Ръководител: М.Ангелов Д.Тановски
E85: =B80-E80 -> 0 | F85: =C80-F80 -> 0

Sheet ОПР
A1: КОНСОЛИДИРАН ОТЧЕТ
A2: за приходите и разходите
A3: на "Индустриален капитал-холдинг" АД
A4: =БАЛАНС!A4 -> 01.01.2012 - 30.06.2012 г.
A6: НАИМЕНОВАНИЕ НА РАЗХОДИТЕ | B6: Сума (хил.лв.) | D6: НАИМЕНОВАНИЕ НА ПРИХОДИТЕ | E6: Сума (хил.лв.)
B7: текуща година | C7: предходна година | E7: текуща година | F7: предходна година
A8: а | B8: 1 | C8: 2 | D8: а | E8: 1 | F8: 2
A9: А. Разходи за обичайната дейност | D9: А. Приходи от обичайната дейност
A10: I. Разходи по икономически елементи | D10: I. Нетни приходи от продажби на:
A11: 1. Разходи за материали | B11: 55146 | C11: 54511 | D11: 1. Продукция | E11: 88688 | F11: 86036
A12: 2. Разходи за външни услуги | B12: 5091 | C12: 5071 | D12: 2. Стоки | E12: 27 | F12: 50
A13: 3. Разходи за амортизации | B13: 4567 | C13: 4574 | D13: 3. Услуги | E13: 311 | F13: 254
A14: 4. Разходи за възнаграждения | B14: 11033 | C14: 10613 | D14: 4. други | E14: 2279 | F14: 2250
A15: 5. Разходи за осигуровки | B15: 2280 | C15: 2168 | D15: Общо за група I: | E15: =SUM(E11:E14) -> 91305 | F15: =SUM(F11:F14) -> 88590
A16: 6. Други разходи вт.ч.: | B16: 357 | C16: 394 | D16: II. Приходи от финансирания
A17: обезценка на активи | D17: в т.ч. от правителството
A18: провизии | D18: III. Финансови приходи
A19: Общо за група I: | B19: =SUM(B11:B16) -> 78474 | C19: =SUM(C11:C16) -> 77331 | D19: 1. Приходи от лихви | E19: 190 | F19: 108
A20: II. Суми с корективен характер | D20: в т.ч. лихви от свързани предприятия
A21: 1.Балансова стойност на продадени активи (без продукция) | B21: 988 | C21: 868 | D21: 2. Приходи от участия
A22: 2.Разходи за придобиване и ликвидация на дълготрайни активи по стопански начин | D22: в т.ч. дивиденти
A23: 3. Изменение на запасите от продукция и незавършено производство | B23: 329 | C23: -1247 | D23: 3. Положителни разлики от операции с финансови активи и инструменти | E23: 30 | F23: 72
A24: 4. Приплоди и прираст на животни | D24: 4. Положителни разлики от промяна на валутни курсове | E24: 91 | F24: 145
A25: 5. Други суми с корективен характер | D25: 5.Други приходи от финансови операции | F25: 59
A26: Общо за група II: | B26: =SUM(B21:B25) -> 1317 | C26: =SUM(C21:C25) -> -379 | D26: Общо за група III: | E26: =SUM(E19:E25)-E20-E22 -> 311 | F26: =SUM(F19:F25)-F20-F22 -> 384
A27: III. Финансови разходи | D27: Б. Общо приходи от дейността (I+II+III) | E27: =E15+E26+E16 -> 91616 | F27: =F15+F26+F16 -> 88974
A28: 1. Разходи за лихви | B28: 340 | C28: 302 | D28: В. Загуба от обичайната дейност
A29: в т.ч. лихви към свързани предприятия | D29: IV. Извънредни приходи | E29: 1 | F29: 4
A30: 2. Отрицателни разлики от операции с финансови активи и инструменти | B30: 66 | C30: 46
A31: 3. Отрицателни разлики от промяна на валутни курсове | B31: 132 | C31: 163
A32: 4. Други разходи по финансови операции | B32: 64 | C32: 112
A33: Общо за група III: | B33: =SUM(B28:B32) -> 602 | C33: =SUM(C28:C32) -> 623
A34: Б. Общо разходи за дейността ( I+II+III) | B34: =B19+B26+B33 -> 80393 | C34: =C19+C26+C33 -> 77575
A35: В. Печалба от обичайната дейност | B35: =E27-B34 -> 11223 | C35: =C38 -> 11403
A36: IV. Извънредни разходи
A37: Г. Общо разходи (Б + IV) | B37: =B34+B36 -> 80393 | C37: =C34+C36 -> 77575 | D37: Г. Общо приходи (Б + IV) | E37: =E27+E29 -> 91617 | F37: =F27+F29 -> 88978
A38: Д. Счетоводна печалба | B38: =MAX(E37-B37,0) -> 11224 | C38: =MAX(F37-C37,0) -> 11403 | D38: Д. Счетоводна загуба
A39: V. Разходи за данъци | B39: =SUM(B40:B41) -> 868 | C39: =SUM(C40:C41) -> 889
A40: 1. Данъци от печалбата | B40: 868 | C40: 889
A41: 2. Други
A42: Е. Печалба ( Д - V ) | B42: =B38-B39 -> 10356 | C42: =C38-C39 -> 10514 | D42: Е. Загуба (Д + V )
A43: в т.ч. печалба, непринадлежаща на групата | B43: =БАЛАНС!E42 -> 7959 | C43: 7924 | D43: в т.ч. загуба, непринадлежаща на групата
A44: ВСИЧКО (Г + V + Е) | B44: =B37+B39+B42 -> 91617 | C44: =C37+C39+C42 -> 88978 | D44: ВСИЧКО (Г + Е) | E44: =E37+E42 -> 91617 | F44: =F37+F42 -> 88978
A46: =БАЛАНС!A83 -> Дата: 20.08.2012 г. Съставител: Н.Николов Ръководител: М.Ангелов Д.Тановски
E48: =B44-E44 -> 0 | F48: =C44-F44 -> 0

Sheet ОПП по прекия метод
A1: КОНСОЛИДИРАН ОТЧЕТ
A2: за паричните потоци по прекия метод
A3: на "Индустриален капитал-холдинг" АД
A4: =БАЛАНС!A4 -> 01.01.2012 - 30.06.2012 г. | G4: ( хил. лв.)
A5: Наименование на паричните потоци | B5: Текущ период | E5: Предходен период
B6: постъпления | C6: плащания | D6: нетен поток | E6: постъпления | F6: плащания | G6: нетен поток
A7: а | B7: 1 | C7: 2 | D7: 3 | E7: 1 | F7: 2 | G7: 3
A8: А. Парични потоци от основна дейност
A9: 1.Парични потоци , свързани с търговски контрагенти | B9: 92096 | C9: =74001-165 -> 73836 | D9: =B9-C9 -> 18260 | E9: 84871 | F9: 68661 | G9: =E9-F9 -> 16210
A10: 2. Парични потоци , свързани с краткосрочни финансови активи, държани за търговски цели | B10: 0 | C10: 0 | D10: =B10-C10 -> 0 | G10: =E10-F10 -> 0
A11: 3. Парични потоци , свързани с трудови възнаграждения | B11: 0 | C11: 13524 | D11: =B11-C11 -> -13524 | F11: 11405 | G11: =E11-F11 -> -11405
A12: 4. Парични потоци , свързани с лихви, комисионни, дивиденти и други подобни | B12: 161 | C12: 18 | D12: =B12-C12 -> 143 | E12: 123 | F12: 20 | G12: =E12-F12 -> 103
A13: 5. Парични потоци от положителни и отрицателни валутни курсови разлики | C13: 114 | D13: =B13-C13 -> -114 | E13: 1 | F13: 116 | G13: =E13-F13 -> -115
A14: 6. Платени и възстановени данъци (без корпоративен данък върху печалбата) | B14: 4397 | C14: 134 | D14: =B14-C14 -> 4263 | E14: 5379 | F14: 848 | G14: =E14-F14 -> 4531
A15: 7. Платени и възстановени данъци върху печалбата | C15: 1569 | D15: =B15-C15 -> -1569 | G15: =E15-F15 -> 0
A16: 8. Плащания при разпределение на печалби | D16: =B16-C16 -> 0 | F16: 13 | G16: =E16-F16 -> -13
A17: 9. Други парични потоци от основна дейност | B17: 313 | C17: 1923 | D17: =B17-C17 -> -1610 | E17: 313 | F17: 1945 | G17: =E17-F17 -> -1632
A18: Всичко парични потоци от основна дейност (А) | B18: =SUM(B9:B17) -> 96967 | C18: =SUM(C9:C17) -> 91118 | D18: =SUM(D9:D17) -> 5849 | E18: =SUM(E9:E17) -> 90687 | F18: =SUM(F9:F17) -> 83008 | G18: =SUM(G9:G17) -> 7679
A19: Б. Парични потоци от инвестиционна дейност
A20: 1.Парични потоци,свързани с дълготрайни активи | B20: 25 | C20: 3749 | D20: =B20-C20 -> -3724 | E20: 32 | F20: 2413 | G20: =E20-F20 -> -2381
A21: 2. Парични потоци , свързани с краткосрочни финансови активи | D21: =B21-C21 -> 0 | G21: =E21-F21 -> 0
A22: 3. Парични потоци , свързани с лихви, комисионни, дивиденти и други подобни | D22: =B22-C22 -> 0 | G22: =E22-F22 -> 0
A23: 4. Парични потоци от бизнес комбинации - придобивания | D23: =B23-C23 -> 0 | G23: =E23-F23 -> 0
A24: 5. Парични потоци от положителни и отрицателни валутни курсови разлики | D24: =B24-C24 -> 0 | G24: =E24-F24 -> 0
A25: 6. Други парични потоци от инвестиционна дейност | D25: =B25-C25 -> 0 | E25: 1410 | F25: 3 | G25: =E25-F25 -> 1407
A26: Всичко парични потоци от инвестиционна дейност (Б) | B26: =SUM(B20:B25) -> 25 | C26: =SUM(C20:C25) -> 3749 | D26: =SUM(D20:D25) -> -3724 | E26: =SUM(E20:E25) -> 1442 | F26: =SUM(F20:F25) -> 2416 | G26: =SUM(G20:G25) -> -974
A27: В. Парични потоци от финансова дейност
A28: 1. Парични потоци от емитиране и обратно придобиване на ценни книжа | C28: 27 | D28: =B28-C28 -> -27 | G28: =E28-F28 -> 0
A29: 2. Парични потоци от допълнителни вноски и връщането им на собствениците | D29: =B29-C29 -> 0 | G29: =E29-F29 -> 0
A30: 3. Парични потоци, свързани с получени или предоставени заеми | B30: 38349 | C30: 38700 | D30: =B30-C30 -> -351 | E30: 34406 | F30: 34658 | G30: =E30-F30 -> -252
A31: 4. Парични потоци , свързани с лихви, комисионни, дивиденти и други подобни | B31: 28 | C31: =950+291 -> 1241 | D31: =B31-C31 -> -1213 | E31: 21 | F31: 750 | G31: =E31-F31 -> -729
A32: 5. Плащания на задължения по лизингови договори | B32: 0 | C32: 198 | D32: =B32-C32 -> -198 | F32: 193 | G32: =E32-F32 -> -193
A33: 6. Парични потоци от положителни и отрицателни валутни курсови разлики | C33: 4 | D33: =B33-C33 -> -4 | E33: 7 | F33: 22 | G33: =E33-F33 -> -15
A34: 7. Други парични потоци от финансова дейност | B34: 82 | C34: 121 | D34: =B34-C34 -> -39 | E34: 174 | F34: 127 | G34: =E34-F34 -> 47
A35: Всичко парични потоци от финансова дейност (В) | B35: =SUM(B28:B34) -> 38459 | C35: =SUM(C28:C34) -> 40291 | D35: =SUM(D28:D34) -> -1832 | E35: =SUM(E28:E34) -> 34608 | F35: =SUM(F28:F34) -> 35750 | G35: =SUM(G28:G34) -> -1142
A36: Г. Изменения на паричните средства през периода (А+Б+В) | B36: =B18+B26+B35 -> 135451 | C36: =C18+C26+C35 -> 135158 | D36: =D18+D26+D35 -> 293 | E36: =E18+E26+E35 -> 126737 | F36: =F18+F26+F35 -> 121174 | G36: =G18+G26+G35 -> 5563
A37: Д. Парични средства в началото на периода | D37: =БАЛАНС!C77 -> 18817 | G37: 9551
A38: Е. Парични средства в края на периода | D38: =D36+D37 -> 19110 | G38: =G36+G37 -> 15114
A40: =БАЛАНС!A83 -> Дата: 20.08.2012 г. Съставител: Н.Николов Ръководител: М.Ангелов Д.Тановски
D42: =БАЛАНС!B77-D38 -> 0

Sheet ОТЧ.СОБСТВ.КАПИТ.
A1: КОНСОЛИДИРАН ОТЧЕТ
A2: за собствения капитал
A3: на "Индустриален капитал-холдинг" АД
A4: =БАЛАНС!A4 -> 01.01.2012 - 30.06.2012 г. | L4: ( хил.лв.)
A5: Показатели | B5: Основен капитал | C5: Малцин-ствено участие | D5: Резерви | I5: Финансов резултат | K5: Резерв от преводи | L5: Общо собствен капитал
D6: премии от емисия | E6: резерв от последващи оценки на активи и пасиви | F6: целеви резерви | I6: печалба | J6: загуба
F7: общи | G7: специали зирани | H7: други
A8: a | B8: 1 | C8: 2 | D8: 3 | E8: 4 | F8: 5 | G8: 6 | H8: 7 | I8: 8 | J8: 9 | K8: 10 | L8: 11
A9: Салдо в началото на отчетния период | B9: 15552 | C9: 64509 | D9: 0 | E9: 6577 | F9: 2165 | G9: 0 | H9: 2828 | I9: 8258 | J9: -72 | K9: 0 | L9: 35308
A10: Изменения вследствие промяна на счетов. политика | C10: 0 | E10: 0 | G10: 0 | H10: 0 | L10: =SUM(B10:K10)-C10 -> 0
A11: Салдо в началото на отчетния период | B11: =B9+B10 -> 15552 | C11: =C9+C10 -> 64509 | D11: =D9+D10 -> 0 | E11: =E9+E10 -> 6577 | F11: =F9+F10 -> 2165 | G11: =G9+G10 -> 0 | H11: =H9+H10 -> 2828 | I11: =I9+I10 -> 8258 | ... K11: =K9+K10 -> 0 | L11: =SUM(B11:K11)-C11 -> 35308
A12: 1. Изменения за сметка на собствениците в т.ч. | B12: =B13+B14 -> 0 | C12: =C13+C14 -> 0 | D12: =D13+D14 -> 0 | E12: =E13+E14 -> 0 | F12: =F13+F14 -> 0 | G12: =G13+G14 -> 0 | H12: =H13+H14 -> 0 | I12: =I13+I14 -> 0 | ... K12: =K13+K14 -> 0 | L12: =SUM(B12:K12)-C12 -> 0
A13: увеличение | C13: 0 | L13: =SUM(B13:K13)-C13 -> 0
A14: намаление | L14: =SUM(B14:K14)-C14 -> 0
A15: 2. Финансов резултат за текущия период | C15: =БАЛАНС!E42 -> 7959 | I15: =БАЛАНС!E28 -> 2397 | L15: =SUM(B15:K15)-C15 -> 2397
A16: 3. Разпределение на печалбата | F16: 0 | H16: 0 | L16: =SUM(B16:K16)-C16 -> 0
A17: в т.ч. за дивиденти | H17: 0 | L17: =SUM(B17:K17)-C17 -> 0
A18: 4. Покриване на загуба | L18: =SUM(B18:K18)-C18 -> 0
A19: 5. Последващи оценки на дълготрайни материални активи в т.ч. | B19: =B20+B21 -> 0 | C19: =C20-C21 -> 0 | D19: =D20+D21 -> 0 | E19: =E20-E21 -> 0 | F19: =F20+F21 -> 0 | G19: =G20+G21 -> 0 | H19: =H20+H21 -> 0 | I19: =I20+I21 -> 0 | J19: =J20+J21 -> 0 | K19: =K20+K21 -> 0 | L19: =SUM(B19:K19)-C19 -> 0
A20: увеличения | L20: =SUM(B20:K20)-C20 -> 0
A21: намаления | L21: =SUM(B21:K21)-C21 -> 0
A22: 6. Последващи оценки на финансови активи и инструменти | B22: =B23+B24 -> 0 | C22: =C23+C24 -> 0 | D22: =D23+D24 -> 0 | E22: =E23+E24 -> 0 | F22: =F23+F24 -> 0 | G22: =G23+G24 -> 0 | H22: =H23+H24 -> 0 | I22: =I23+I24 -> 0 | ... K22: =K23+K24 -> 0 | L22: =SUM(B22:K22)-C22 -> 0
A23: увеличения | L23: =SUM(B23:K23)-C23 -> 0
A24: намаления | L24: =SUM(B24:K24)-C24 -> 0
A25: 7. Промени в счетоводната политика, грешки и други | L25: =SUM(B25:K25)-C25 -> 0
A26: 8. Други изменения в собствения капитал | C26: -4988 | F26: 555 | H26: -78 | I26: -1182 | J26: -37 | L26: =SUM(B26:K26)-C26 -> -742
A27: Салдо към края на отчетния период | B27: =B11+B12+B15+B16+B18+B19++B25+B26 -> 15552 | C27: =C11+C12+C15+C16+C18+C19++C25+C26 -> 67480 | D27: =D11+D12+D15+D16+D18+D19++D25+D26 -> 0 | E27: =E11+E12+E15+E16+E18+E19++E25+E26 -> 6577 | F27: =F11+F12+F15+F16+F18+F19++F25+F26 -> 2720 | G27: =G11+G12+G15+G16+G18+G19++G25+G26 -> 0 | H27: =H11+H12+H15+H16+H18+H19++H25+H26 -> 2750 | I27: =I11+I12+I15+I16+I18+I19++I25+I26 -> 9473 | ... K27: =K11+K12+K15+K16+K18+K19++K25+K26 -> 0 | L27: =SUM(B27:K27)-C27 -> 36963
A28: 9. Промени от преводи на годишни финансови отчети на предприятия в чужбина
A29: 10. Промени от преизчисляване на финансови отчети при свръхинфлация
A30: Преизчислен собствен капитал към края на отчетния период | B30: =B27 -> 15552 | C30: =C27 -> 67480 | D30: =D27 -> 0 | E30: =E27 -> 6577 | F30: =F27 -> 2720 | G30: =G27 -> 0 | H30: =H27 -> 2750 | I30: =I27 -> 9473 | ... L30: =L27 -> 36963
A32: =БАЛАНС!A83 -> Дата: 20.08.2012 г. Съставител: Н.Николов Ръководител: М.Ангелов Д.Тановски
L33: =(БАЛАНС!E44-БАЛАНС!E43)-L30 -> 0
